BEGIN:VCALENDAR
VERSION:2.0
PRODID:-//Dorpsbanier Spierdijk - ECPv6.15.20//NONSGML v1.0//EN
CALSCALE:GREGORIAN
METHOD:PUBLISH
X-WR-CALNAME:Dorpsbanier Spierdijk
X-ORIGINAL-URL:https://dorpsbanierspierdijk.nl
X-WR-CALDESC:Evenementen voor Dorpsbanier Spierdijk
REFRESH-INTERVAL;VALUE=DURATION:PT1H
X-Robots-Tag:noindex
X-PUBLISHED-TTL:PT1H
BEGIN:VTIMEZONE
TZID:Europe/Amsterdam
BEGIN:DAYLIGHT
TZOFFSETFROM:+0100
TZOFFSETTO:+0200
TZNAME:CEST
DTSTART:20250330T010000
END:DAYLIGHT
BEGIN:STANDARD
TZOFFSETFROM:+0200
TZOFFSETTO:+0100
TZNAME:CET
DTSTART:20251026T010000
END:STANDARD
BEGIN:DAYLIGHT
TZOFFSETFROM:+0100
TZOFFSETTO:+0200
TZNAME:CEST
DTSTART:20260329T010000
END:DAYLIGHT
BEGIN:STANDARD
TZOFFSETFROM:+0200
TZOFFSETTO:+0100
TZNAME:CET
DTSTART:20261025T010000
END:STANDARD
BEGIN:DAYLIGHT
TZOFFSETFROM:+0100
TZOFFSETTO:+0200
TZNAME:CEST
DTSTART:20270328T010000
END:DAYLIGHT
BEGIN:STANDARD
TZOFFSETFROM:+0200
TZOFFSETTO:+0100
TZNAME:CET
DTSTART:20271031T010000
END:STANDARD
END:VTIMEZONE
BEGIN:VEVENT
DTSTART;VALUE=DATE:20260421
DTEND;VALUE=DATE:20260422
DTSTAMP:20260422T045556
CREATED:20250714T103131Z
LAST-MODIFIED:20250915T141209Z
UID:5178-1776729600-1776815999@dorpsbanierspierdijk.nl
SUMMARY:Soos over de Drempel
DESCRIPTION:Klaverjassen\, Keezen en Rummikub in de Mantel\, aanvang 13.45 uur. 
URL:https://dorpsbanierspierdijk.nl/agenda/soos-over-de-drempel-19/
LOCATION:Zorgcentrum De Oever\, Oeverland\, Spierdijk\, Nederland
ATTACH;FMTTYPE=image/jpeg:https://dorpsbanierspierdijk.nl/wp-content/uploads/2025/07/ines-ferreira-DYM_vBsosVA-unsplash-scaled.jpg
END:VEVENT
BEGIN:VEVENT
DTSTART;VALUE=DATE:20260418
DTEND;VALUE=DATE:20260419
DTSTAMP:20260422T045556
CREATED:20251108T145236Z
LAST-MODIFIED:20251108T145236Z
UID:5356-1776470400-1776556799@dorpsbanierspierdijk.nl
SUMMARY:Jubileumfeest voetbal
DESCRIPTION:
URL:https://dorpsbanierspierdijk.nl/agenda/jubileumfeest-voetbal/
LOCATION:RKSV St. George
ATTACH;FMTTYPE=image/png:https://dorpsbanierspierdijk.nl/wp-content/uploads/2023/11/St.-George.png
END:VEVENT
BEGIN:VEVENT
DTSTART;VALUE=DATE:20260418
DTEND;VALUE=DATE:20260419
DTSTAMP:20260422T045556
CREATED:20251205T212526Z
LAST-MODIFIED:20251205T212526Z
UID:5537-1776470400-1776556799@dorpsbanierspierdijk.nl
SUMMARY:Oud papier
DESCRIPTION:Zorg dat het oud papier vanaf 12.00 uur aan de weg staat.
URL:https://dorpsbanierspierdijk.nl/agenda/oud-papier-8/
ATTACH;FMTTYPE=image/jpeg:https://dorpsbanierspierdijk.nl/wp-content/uploads/2022/11/pexels-digital-buggu-167538-scaled.jpg
END:VEVENT
BEGIN:VEVENT
DTSTART;TZID=Europe/Amsterdam:20260417T195000
DTEND;TZID=Europe/Amsterdam:20260417T220000
DTSTAMP:20260422T045556
CREATED:20250331T151821Z
LAST-MODIFIED:20250331T151843Z
UID:5035-1776455400-1776463200@dorpsbanierspierdijk.nl
SUMMARY:Klaverjassen/Keezen avond in de kantine van St. George uiterlijk 19:50 aanwezig
DESCRIPTION:
URL:https://dorpsbanierspierdijk.nl/agenda/klaverjassen-keezen-avond-in-de-kantine-van-st-george-uiterlijk-1950-aanwezig-8/
LOCATION:RKSV St. George
ATTACH;FMTTYPE=image/jpeg:https://dorpsbanierspierdijk.nl/wp-content/uploads/2024/10/andrik-langfield-S0_Ep9meLFY-unsplash-scaled.jpg
END:VEVENT
BEGIN:VEVENT
DTSTART;VALUE=DATE:20260417
DTEND;VALUE=DATE:20260418
DTSTAMP:20260422T045556
CREATED:20251205T211017Z
LAST-MODIFIED:20251205T211017Z
UID:5483-1776384000-1776470399@dorpsbanierspierdijk.nl
SUMMARY:Groene bak – Postcode 1641/1643 + 1711
DESCRIPTION:Zet op de ophaaldag het afval ’s morgens vóór 07.30 uur aan de weg.
URL:https://dorpsbanierspierdijk.nl/agenda/groene-bak-postcode-1641-1643-1711-8/
ATTACH;FMTTYPE=image/webp:https://dorpsbanierspierdijk.nl/wp-content/uploads/2022/11/Groene-container.webp
END:VEVENT
BEGIN:VEVENT
DTSTART;TZID=Europe/Amsterdam:20260413T193000
DTEND;TZID=Europe/Amsterdam:20260413T213000
DTSTAMP:20260422T045556
CREATED:20251117T140411Z
LAST-MODIFIED:20251117T140411Z
UID:5410-1776108600-1776115800@dorpsbanierspierdijk.nl
SUMMARY:EHBO: Les 6: EHBDD herhaling
DESCRIPTION:
URL:https://dorpsbanierspierdijk.nl/agenda/ehbo-les-6-ehbdd-herhaling/
LOCATION:Zorgcentrum De Oever\, Oeverland\, Spierdijk\, Nederland
ATTACH;FMTTYPE=image/jpeg:https://dorpsbanierspierdijk.nl/wp-content/uploads/2024/10/EHBO-scaled.jpg
END:VEVENT
BEGIN:VEVENT
DTSTART;TZID=Europe/Amsterdam:20260413T190000
DTEND;TZID=Europe/Amsterdam:20260413T203000
DTSTAMP:20260422T045556
CREATED:20250827T181037Z
LAST-MODIFIED:20250827T181037Z
UID:5234-1776106800-1776112200@dorpsbanierspierdijk.nl
SUMMARY:Meidenclub
DESCRIPTION:
URL:https://dorpsbanierspierdijk.nl/agenda/meidenclub-14/
LOCATION:De Mantel
ATTACH;FMTTYPE=image/jpeg:https://dorpsbanierspierdijk.nl/wp-content/uploads/2025/08/Meidenclub.jpg
END:VEVENT
BEGIN:VEVENT
DTSTART;VALUE=DATE:20260411
DTEND;VALUE=DATE:20260420
DTSTAMP:20260422T045556
CREATED:20251110T101442Z
LAST-MODIFIED:20251110T101442Z
UID:5362-1775865600-1776643199@dorpsbanierspierdijk.nl
SUMMARY:Tennis: Clubkampioenschappen
DESCRIPTION:Alle categorieën
URL:https://dorpsbanierspierdijk.nl/agenda/tennis-clubkampioenschappen/
LOCATION:RKSV St. George
ATTACH;FMTTYPE=image/jpeg:https://dorpsbanierspierdijk.nl/wp-content/uploads/2022/12/Tennis-scaled.jpg
END:VEVENT
BEGIN:VEVENT
DTSTART;TZID=Europe/Amsterdam:20260410T183000
DTEND;TZID=Europe/Amsterdam:20260410T203000
DTSTAMP:20260422T045556
CREATED:20250827T181159Z
LAST-MODIFIED:20250827T181223Z
UID:5236-1775845800-1775853000@dorpsbanierspierdijk.nl
SUMMARY:Mantelmars
DESCRIPTION:Sponsorloop van ’t Gilde\, de Jongensclub & Meidenclub
URL:https://dorpsbanierspierdijk.nl/agenda/mantelmars/
LOCATION:De Mantel
ATTACH;FMTTYPE=image/jpeg:https://dorpsbanierspierdijk.nl/wp-content/uploads/2022/12/Mantelmars-scaled.jpg
END:VEVENT
BEGIN:VEVENT
DTSTART;VALUE=DATE:20260410
DTEND;VALUE=DATE:20260411
DTSTAMP:20260422T045556
CREATED:20251205T210245Z
LAST-MODIFIED:20251205T210245Z
UID:5455-1775779200-1775865599@dorpsbanierspierdijk.nl
SUMMARY:Zwarte bak – Postcode 1641/1643 + 1711
DESCRIPTION:Zet op de ophaaldag het afval ’s morgens vóór 07.30 uur aan de weg.
URL:https://dorpsbanierspierdijk.nl/agenda/zwarte-bak-postcode-1641-1643-1711-4/
ATTACH;FMTTYPE=image/jpeg:https://dorpsbanierspierdijk.nl/wp-content/uploads/2022/12/Zwarte-bak.jpg
END:VEVENT
BEGIN:VEVENT
DTSTART;TZID=Europe/Amsterdam:20260408T193000
DTEND;TZID=Europe/Amsterdam:20260408T213000
DTSTAMP:20260422T045557
CREATED:20251117T140312Z
LAST-MODIFIED:20251117T140312Z
UID:5408-1775676600-1775683800@dorpsbanierspierdijk.nl
SUMMARY:EHBO: Les 6: EHBDD herhaling
DESCRIPTION:
URL:https://dorpsbanierspierdijk.nl/agenda/ehbo-les-6/
LOCATION:Zorgcentrum De Oever\, Oeverland\, Spierdijk\, Nederland
ATTACH;FMTTYPE=image/jpeg:https://dorpsbanierspierdijk.nl/wp-content/uploads/2024/10/EHBO-scaled.jpg
END:VEVENT
BEGIN:VEVENT
DTSTART;TZID=Europe/Amsterdam:20260408T140000
DTEND;TZID=Europe/Amsterdam:20260408T140000
DTSTAMP:20260422T045557
CREATED:20250904T173859Z
LAST-MODIFIED:20250907T093345Z
UID:5299-1775656800-1775656800@dorpsbanierspierdijk.nl
SUMMARY:K.B.O. Muziek met medewerking van Johan Kruizinga
DESCRIPTION:
URL:https://dorpsbanierspierdijk.nl/agenda/k-b-o-algemene-ledenvergadering-met-bingo/
LOCATION:De Mantel
ATTACH;FMTTYPE=image/png:https://dorpsbanierspierdijk.nl/wp-content/uploads/2025/09/Afbeelding8.png
END:VEVENT
BEGIN:VEVENT
DTSTART;VALUE=DATE:20260407
DTEND;VALUE=DATE:20260408
DTSTAMP:20260422T045557
CREATED:20250714T103123Z
LAST-MODIFIED:20250915T141212Z
UID:5177-1775520000-1775606399@dorpsbanierspierdijk.nl
SUMMARY:Soos over de Drempel
DESCRIPTION:Klaverjassen\, Keezen en Rummikub in de Mantel\, aanvang 13.45 uur. 
URL:https://dorpsbanierspierdijk.nl/agenda/soos-over-de-drempel-18/
LOCATION:Zorgcentrum De Oever\, Oeverland\, Spierdijk\, Nederland
ATTACH;FMTTYPE=image/jpeg:https://dorpsbanierspierdijk.nl/wp-content/uploads/2025/07/ines-ferreira-DYM_vBsosVA-unsplash-scaled.jpg
END:VEVENT
BEGIN:VEVENT
DTSTART;VALUE=DATE:20260404
DTEND;VALUE=DATE:20260405
DTSTAMP:20260422T045557
CREATED:20251205T212516Z
LAST-MODIFIED:20251205T212516Z
UID:5536-1775260800-1775347199@dorpsbanierspierdijk.nl
SUMMARY:Oud papier
DESCRIPTION:Zorg dat het oud papier vanaf 12.00 uur aan de weg staat.
URL:https://dorpsbanierspierdijk.nl/agenda/oud-papier-7/
ATTACH;FMTTYPE=image/jpeg:https://dorpsbanierspierdijk.nl/wp-content/uploads/2022/11/pexels-digital-buggu-167538-scaled.jpg
END:VEVENT
BEGIN:VEVENT
DTSTART;VALUE=DATE:20260403
DTEND;VALUE=DATE:20260404
DTSTAMP:20260422T045557
CREATED:20251205T211009Z
LAST-MODIFIED:20251205T211009Z
UID:5484-1775174400-1775260799@dorpsbanierspierdijk.nl
SUMMARY:Groene bak – Postcode 1641/1643 + 1711
DESCRIPTION:Zet op de ophaaldag het afval ’s morgens vóór 07.30 uur aan de weg.
URL:https://dorpsbanierspierdijk.nl/agenda/groene-bak-postcode-1641-1643-1711-7/
ATTACH;FMTTYPE=image/webp:https://dorpsbanierspierdijk.nl/wp-content/uploads/2022/11/Groene-container.webp
END:VEVENT
BEGIN:VEVENT
DTSTART;VALUE=DATE:20260331
DTEND;VALUE=DATE:20260401
DTSTAMP:20260422T045557
CREATED:20250714T103114Z
LAST-MODIFIED:20250915T141216Z
UID:5176-1774915200-1775001599@dorpsbanierspierdijk.nl
SUMMARY:Soos over de Drempel
DESCRIPTION:Klaverjassen\, Keezen en Rummikub in de Mantel\, aanvang 13.45 uur. 
URL:https://dorpsbanierspierdijk.nl/agenda/soos-over-de-drempel-17/
LOCATION:Zorgcentrum De Oever\, Oeverland\, Spierdijk\, Nederland
ATTACH;FMTTYPE=image/jpeg:https://dorpsbanierspierdijk.nl/wp-content/uploads/2025/07/ines-ferreira-DYM_vBsosVA-unsplash-scaled.jpg
END:VEVENT
BEGIN:VEVENT
DTSTART;TZID=Europe/Amsterdam:20260330T190000
DTEND;TZID=Europe/Amsterdam:20260330T203000
DTSTAMP:20260422T045557
CREATED:20250827T181014Z
LAST-MODIFIED:20250827T181014Z
UID:5229-1774897200-1774902600@dorpsbanierspierdijk.nl
SUMMARY:Meidenclub
DESCRIPTION:
URL:https://dorpsbanierspierdijk.nl/agenda/meidenclub-13/
LOCATION:De Mantel
ATTACH;FMTTYPE=image/jpeg:https://dorpsbanierspierdijk.nl/wp-content/uploads/2025/08/Meidenclub.jpg
END:VEVENT
BEGIN:VEVENT
DTSTART;TZID=Europe/Amsterdam:20260327T184500
DTEND;TZID=Europe/Amsterdam:20260327T200000
DTSTAMP:20260422T045557
CREATED:20250827T195227Z
LAST-MODIFIED:20250827T195227Z
UID:5266-1774637100-1774641600@dorpsbanierspierdijk.nl
SUMMARY:Clubavond 't Gilde
DESCRIPTION:
URL:https://dorpsbanierspierdijk.nl/agenda/clubavond-t-gilde-14/
LOCATION:De Mantel
ATTACH;FMTTYPE=image/jpeg:https://dorpsbanierspierdijk.nl/wp-content/uploads/2022/12/Gilde-Spierdijk-scaled.jpg
END:VEVENT
BEGIN:VEVENT
DTSTART;TZID=Europe/Amsterdam:20260327T200000
DTEND;TZID=Europe/Amsterdam:20260327T200000
DTSTAMP:20260422T045557
CREATED:20260202T204155Z
LAST-MODIFIED:20260203T202339Z
UID:5646-1774641600-1774641600@dorpsbanierspierdijk.nl
SUMMARY:Jaarvergadering St. Jozef
DESCRIPTION:
URL:https://dorpsbanierspierdijk.nl/agenda/jaarvergadering-st-jozef/
LOCATION:Zorgcentrum De Oever\, Oeverland\, Spierdijk\, Nederland
ATTACH;FMTTYPE=image/jpeg:https://dorpsbanierspierdijk.nl/wp-content/uploads/2023/01/Heilige-Huisjes-scaled.jpg
END:VEVENT
BEGIN:VEVENT
DTSTART;VALUE=DATE:20260327
DTEND;VALUE=DATE:20260328
DTSTAMP:20260422T045557
CREATED:20251205T205403Z
LAST-MODIFIED:20251205T205403Z
UID:5429-1774569600-1774655999@dorpsbanierspierdijk.nl
SUMMARY:Plastic bak – Postcode 1641/1643 + 1711
DESCRIPTION:Zet op de ophaaldag het afval ’s morgens vóór 07.30 uur aan de weg.
URL:https://dorpsbanierspierdijk.nl/agenda/plastic-bak-postcode-1641-1643-1711-4/
ATTACH;FMTTYPE=image/jpeg:https://dorpsbanierspierdijk.nl/wp-content/uploads/2022/12/Plastic-bakken.jpg
END:VEVENT
BEGIN:VEVENT
DTSTART;VALUE=DATE:20260321
DTEND;VALUE=DATE:20260330
DTSTAMP:20260422T045557
CREATED:20251110T101352Z
LAST-MODIFIED:20251110T101352Z
UID:5360-1774051200-1774828799@dorpsbanierspierdijk.nl
SUMMARY:Tennis: Hobaho Open
DESCRIPTION:
URL:https://dorpsbanierspierdijk.nl/agenda/tennis-hobaho-open/
LOCATION:RKSV St. George
ATTACH;FMTTYPE=image/jpeg:https://dorpsbanierspierdijk.nl/wp-content/uploads/2022/12/Tennis-scaled.jpg
END:VEVENT
END:VCALENDAR