BEGIN:VCALENDAR
VERSION:2.0
PRODID:-//Dorpsbanier Spierdijk - ECPv6.15.20//NONSGML v1.0//EN
CALSCALE:GREGORIAN
METHOD:PUBLISH
X-WR-CALNAME:Dorpsbanier Spierdijk
X-ORIGINAL-URL:https://dorpsbanierspierdijk.nl
X-WR-CALDESC:Evenementen voor Dorpsbanier Spierdijk
REFRESH-INTERVAL;VALUE=DURATION:PT1H
X-Robots-Tag:noindex
X-PUBLISHED-TTL:PT1H
BEGIN:VTIMEZONE
TZID:Europe/Amsterdam
BEGIN:DAYLIGHT
TZOFFSETFROM:+0100
TZOFFSETTO:+0200
TZNAME:CEST
DTSTART:20250330T010000
END:DAYLIGHT
BEGIN:STANDARD
TZOFFSETFROM:+0200
TZOFFSETTO:+0100
TZNAME:CET
DTSTART:20251026T010000
END:STANDARD
BEGIN:DAYLIGHT
TZOFFSETFROM:+0100
TZOFFSETTO:+0200
TZNAME:CEST
DTSTART:20260329T010000
END:DAYLIGHT
BEGIN:STANDARD
TZOFFSETFROM:+0200
TZOFFSETTO:+0100
TZNAME:CET
DTSTART:20261025T010000
END:STANDARD
BEGIN:DAYLIGHT
TZOFFSETFROM:+0100
TZOFFSETTO:+0200
TZNAME:CEST
DTSTART:20270328T010000
END:DAYLIGHT
BEGIN:STANDARD
TZOFFSETFROM:+0200
TZOFFSETTO:+0100
TZNAME:CET
DTSTART:20271031T010000
END:STANDARD
END:VTIMEZONE
BEGIN:VEVENT
DTSTART;VALUE=DATE:20260529
DTEND;VALUE=DATE:20260530
DTSTAMP:20260422T044347
CREATED:20251205T211252Z
LAST-MODIFIED:20251205T211252Z
UID:5495-1780012800-1780099199@dorpsbanierspierdijk.nl
SUMMARY:Groene bak – Postcode 1641/1643 + 1711
DESCRIPTION:Zet op de ophaaldag het afval ’s morgens vóór 07.30 uur aan de weg.
URL:https://dorpsbanierspierdijk.nl/agenda/groene-bak-postcode-1641-1643-1711-11/
ATTACH;FMTTYPE=image/webp:https://dorpsbanierspierdijk.nl/wp-content/uploads/2022/11/Groene-container.webp
END:VEVENT
BEGIN:VEVENT
DTSTART;VALUE=DATE:20260530
DTEND;VALUE=DATE:20260531
DTSTAMP:20260422T044347
CREATED:20251205T212649Z
LAST-MODIFIED:20251205T212649Z
UID:5548-1780099200-1780185599@dorpsbanierspierdijk.nl
SUMMARY:Oud papier
DESCRIPTION:Zorg dat het oud papier vanaf 12.00 uur aan de weg staat.
URL:https://dorpsbanierspierdijk.nl/agenda/oud-papier-11/
ATTACH;FMTTYPE=image/jpeg:https://dorpsbanierspierdijk.nl/wp-content/uploads/2022/11/pexels-digital-buggu-167538-scaled.jpg
END:VEVENT
BEGIN:VEVENT
DTSTART;VALUE=DATE:20260605
DTEND;VALUE=DATE:20260606
DTSTAMP:20260422T044347
CREATED:20251205T210322Z
LAST-MODIFIED:20251205T210322Z
UID:5459-1780617600-1780703999@dorpsbanierspierdijk.nl
SUMMARY:Zwarte bak – Postcode 1641/1643 + 1711
DESCRIPTION:Zet op de ophaaldag het afval ’s morgens vóór 07.30 uur aan de weg.
URL:https://dorpsbanierspierdijk.nl/agenda/zwarte-bak-postcode-1641-1643-1711-6/
ATTACH;FMTTYPE=image/jpeg:https://dorpsbanierspierdijk.nl/wp-content/uploads/2022/12/Zwarte-bak.jpg
END:VEVENT
BEGIN:VEVENT
DTSTART;VALUE=DATE:20260606
DTEND;VALUE=DATE:20260608
DTSTAMP:20260422T044347
CREATED:20250905T183922Z
LAST-MODIFIED:20250905T183922Z
UID:5314-1780704000-1780876799@dorpsbanierspierdijk.nl
SUMMARY:Sportspektakel
DESCRIPTION:
URL:https://dorpsbanierspierdijk.nl/agenda/sportspektakel/
LOCATION:RKSV St. George
ATTACH;FMTTYPE=image/png:https://dorpsbanierspierdijk.nl/wp-content/uploads/2024/06/Vlag-St.-George.png
END:VEVENT
BEGIN:VEVENT
DTSTART;VALUE=DATE:20260612
DTEND;VALUE=DATE:20260613
DTSTAMP:20260422T044347
CREATED:20251205T211302Z
LAST-MODIFIED:20251205T211302Z
UID:5497-1781222400-1781308799@dorpsbanierspierdijk.nl
SUMMARY:Groene bak – Postcode 1641/1643 + 1711
DESCRIPTION:Zet op de ophaaldag het afval ’s morgens vóór 07.30 uur aan de weg.
URL:https://dorpsbanierspierdijk.nl/agenda/groene-bak-postcode-1641-1643-1711-12/
ATTACH;FMTTYPE=image/webp:https://dorpsbanierspierdijk.nl/wp-content/uploads/2022/11/Groene-container.webp
END:VEVENT
BEGIN:VEVENT
DTSTART;VALUE=DATE:20260613
DTEND;VALUE=DATE:20260614
DTSTAMP:20260422T044347
CREATED:20251205T212702Z
LAST-MODIFIED:20251205T212702Z
UID:5549-1781308800-1781395199@dorpsbanierspierdijk.nl
SUMMARY:Oud papier
DESCRIPTION:Zorg dat het oud papier vanaf 12.00 uur aan de weg staat.
URL:https://dorpsbanierspierdijk.nl/agenda/oud-papier-12/
ATTACH;FMTTYPE=image/jpeg:https://dorpsbanierspierdijk.nl/wp-content/uploads/2022/11/pexels-digital-buggu-167538-scaled.jpg
END:VEVENT
BEGIN:VEVENT
DTSTART;VALUE=DATE:20260619
DTEND;VALUE=DATE:20260620
DTSTAMP:20260422T044347
CREATED:20251205T205447Z
LAST-MODIFIED:20251205T205447Z
UID:5430-1781827200-1781913599@dorpsbanierspierdijk.nl
SUMMARY:Plastic bak – Postcode 1641/1643 + 1711
DESCRIPTION:Zet op de ophaaldag het afval ’s morgens vóór 07.30 uur aan de weg.
URL:https://dorpsbanierspierdijk.nl/agenda/plastic-bak-postcode-1641-1643-1711-7/
ATTACH;FMTTYPE=image/jpeg:https://dorpsbanierspierdijk.nl/wp-content/uploads/2022/12/Plastic-bakken.jpg
END:VEVENT
BEGIN:VEVENT
DTSTART;VALUE=DATE:20260619
DTEND;VALUE=DATE:20260621
DTSTAMP:20260422T044347
CREATED:20260105T132039Z
LAST-MODIFIED:20260105T132039Z
UID:5612-1781827200-1781999999@dorpsbanierspierdijk.nl
SUMMARY:Tuinfeest Spierdijk
DESCRIPTION:
URL:https://dorpsbanierspierdijk.nl/agenda/tuinfeest-spierdijk/
ATTACH;FMTTYPE=image/jpeg:https://dorpsbanierspierdijk.nl/wp-content/uploads/2024/06/Tuinfeest-Spierdijk.jpg
END:VEVENT
BEGIN:VEVENT
DTSTART;VALUE=DATE:20260620
DTEND;VALUE=DATE:20260629
DTSTAMP:20260422T044347
CREATED:20251110T101539Z
LAST-MODIFIED:20251110T101539Z
UID:5364-1781913600-1782691199@dorpsbanierspierdijk.nl
SUMMARY:Tennis: FeldStam Koggenland Open
DESCRIPTION:
URL:https://dorpsbanierspierdijk.nl/agenda/tennis-feldstam-koggenland-open/
LOCATION:RKSV St. George
ATTACH;FMTTYPE=image/jpeg:https://dorpsbanierspierdijk.nl/wp-content/uploads/2022/12/Tennis-scaled.jpg
END:VEVENT
BEGIN:VEVENT
DTSTART;VALUE=DATE:20260626
DTEND;VALUE=DATE:20260627
DTSTAMP:20260422T044347
CREATED:20251205T211312Z
LAST-MODIFIED:20251205T211312Z
UID:5499-1782432000-1782518399@dorpsbanierspierdijk.nl
SUMMARY:Groene bak – Postcode 1641/1643 + 1711
DESCRIPTION:Zet op de ophaaldag het afval ’s morgens vóór 07.30 uur aan de weg.
URL:https://dorpsbanierspierdijk.nl/agenda/groene-bak-postcode-1641-1643-1711-13/
ATTACH;FMTTYPE=image/webp:https://dorpsbanierspierdijk.nl/wp-content/uploads/2022/11/Groene-container.webp
END:VEVENT
BEGIN:VEVENT
DTSTART;VALUE=DATE:20260627
DTEND;VALUE=DATE:20260628
DTSTAMP:20260422T044347
CREATED:20251205T212706Z
LAST-MODIFIED:20251205T212706Z
UID:5550-1782518400-1782604799@dorpsbanierspierdijk.nl
SUMMARY:Oud papier
DESCRIPTION:Zorg dat het oud papier vanaf 12.00 uur aan de weg staat.
URL:https://dorpsbanierspierdijk.nl/agenda/oud-papier-13/
ATTACH;FMTTYPE=image/jpeg:https://dorpsbanierspierdijk.nl/wp-content/uploads/2022/11/pexels-digital-buggu-167538-scaled.jpg
END:VEVENT
BEGIN:VEVENT
DTSTART;VALUE=DATE:20260703
DTEND;VALUE=DATE:20260704
DTSTAMP:20260422T044347
CREATED:20251205T210420Z
LAST-MODIFIED:20251205T210420Z
UID:5464-1783036800-1783123199@dorpsbanierspierdijk.nl
SUMMARY:Zwarte bak – Postcode 1641/1643 + 1711
DESCRIPTION:Zet op de ophaaldag het afval ’s morgens vóór 07.30 uur aan de weg.
URL:https://dorpsbanierspierdijk.nl/agenda/zwarte-bak-postcode-1641-1643-1711-7/
ATTACH;FMTTYPE=image/jpeg:https://dorpsbanierspierdijk.nl/wp-content/uploads/2022/12/Zwarte-bak.jpg
END:VEVENT
BEGIN:VEVENT
DTSTART;VALUE=DATE:20260703
DTEND;VALUE=DATE:20260706
DTSTAMP:20260422T044347
CREATED:20250817T190729Z
LAST-MODIFIED:20250817T190729Z
UID:5189-1783036800-1783295999@dorpsbanierspierdijk.nl
SUMMARY:Zeskamp Spierdijk
DESCRIPTION:Locatie: De Mantel & IJsbaan Spierdijk
URL:https://dorpsbanierspierdijk.nl/agenda/zeskamp-spierdijk/
ATTACH;FMTTYPE=image/jpeg:https://dorpsbanierspierdijk.nl/wp-content/uploads/2022/12/Zeskamp-Spierdijk-2022-scaled.jpg
END:VEVENT
BEGIN:VEVENT
DTSTART;VALUE=DATE:20260710
DTEND;VALUE=DATE:20260711
DTSTAMP:20260422T044347
CREATED:20251205T211338Z
LAST-MODIFIED:20251205T211338Z
UID:5498-1783641600-1783727999@dorpsbanierspierdijk.nl
SUMMARY:Groene bak – Postcode 1641/1643 + 1711
DESCRIPTION:Zet op de ophaaldag het afval ’s morgens vóór 07.30 uur aan de weg.
URL:https://dorpsbanierspierdijk.nl/agenda/groene-bak-postcode-1641-1643-1711-14/
ATTACH;FMTTYPE=image/webp:https://dorpsbanierspierdijk.nl/wp-content/uploads/2022/11/Groene-container.webp
END:VEVENT
BEGIN:VEVENT
DTSTART;VALUE=DATE:20260711
DTEND;VALUE=DATE:20260712
DTSTAMP:20260422T044347
CREATED:20251205T212726Z
LAST-MODIFIED:20251205T212726Z
UID:5552-1783728000-1783814399@dorpsbanierspierdijk.nl
SUMMARY:Oud papier
DESCRIPTION:Zorg dat het oud papier vanaf 12.00 uur aan de weg staat.
URL:https://dorpsbanierspierdijk.nl/agenda/oud-papier-14/
ATTACH;FMTTYPE=image/jpeg:https://dorpsbanierspierdijk.nl/wp-content/uploads/2022/11/pexels-digital-buggu-167538-scaled.jpg
END:VEVENT
BEGIN:VEVENT
DTSTART;VALUE=DATE:20260717
DTEND;VALUE=DATE:20260718
DTSTAMP:20260422T044347
CREATED:20251205T205508Z
LAST-MODIFIED:20251205T205508Z
UID:5432-1784246400-1784332799@dorpsbanierspierdijk.nl
SUMMARY:Plastic bak – Postcode 1641/1643 + 1711
DESCRIPTION:Zet op de ophaaldag het afval ’s morgens vóór 07.30 uur aan de weg.
URL:https://dorpsbanierspierdijk.nl/agenda/plastic-bak-postcode-1641-1643-1711-8/
ATTACH;FMTTYPE=image/jpeg:https://dorpsbanierspierdijk.nl/wp-content/uploads/2022/12/Plastic-bakken.jpg
END:VEVENT
BEGIN:VEVENT
DTSTART;VALUE=DATE:20260724
DTEND;VALUE=DATE:20260725
DTSTAMP:20260422T044347
CREATED:20251205T211456Z
LAST-MODIFIED:20251205T211456Z
UID:5506-1784851200-1784937599@dorpsbanierspierdijk.nl
SUMMARY:Groene bak – Postcode 1641/1643 + 1711
DESCRIPTION:Zet op de ophaaldag het afval ’s morgens vóór 07.30 uur aan de weg.
URL:https://dorpsbanierspierdijk.nl/agenda/groene-bak-postcode-1641-1643-1711-15/
ATTACH;FMTTYPE=image/webp:https://dorpsbanierspierdijk.nl/wp-content/uploads/2022/11/Groene-container.webp
END:VEVENT
BEGIN:VEVENT
DTSTART;VALUE=DATE:20260724
DTEND;VALUE=DATE:20260728
DTSTAMP:20260422T044347
CREATED:20250817T205150Z
LAST-MODIFIED:20250817T205150Z
UID:5193-1784851200-1785196799@dorpsbanierspierdijk.nl
SUMMARY:Kermis Wogmeer
DESCRIPTION:
URL:https://dorpsbanierspierdijk.nl/agenda/kermis-wogmeer/
LOCATION:Wapen van Wogmeer
ATTACH;FMTTYPE=image/jpeg:https://dorpsbanierspierdijk.nl/wp-content/uploads/2022/12/Kermis-scaled.jpg
END:VEVENT
BEGIN:VEVENT
DTSTART;VALUE=DATE:20260725
DTEND;VALUE=DATE:20260726
DTSTAMP:20260422T044347
CREATED:20251205T212740Z
LAST-MODIFIED:20251205T212740Z
UID:5556-1784937600-1785023999@dorpsbanierspierdijk.nl
SUMMARY:Oud papier
DESCRIPTION:Zorg dat het oud papier vanaf 12.00 uur aan de weg staat.
URL:https://dorpsbanierspierdijk.nl/agenda/oud-papier-15/
ATTACH;FMTTYPE=image/jpeg:https://dorpsbanierspierdijk.nl/wp-content/uploads/2022/11/pexels-digital-buggu-167538-scaled.jpg
END:VEVENT
BEGIN:VEVENT
DTSTART;VALUE=DATE:20260731
DTEND;VALUE=DATE:20260801
DTSTAMP:20260422T044347
CREATED:20251205T210438Z
LAST-MODIFIED:20251205T210438Z
UID:5465-1785456000-1785542399@dorpsbanierspierdijk.nl
SUMMARY:Zwarte bak – Postcode 1641/1643 + 1711
DESCRIPTION:Zet op de ophaaldag het afval ’s morgens vóór 07.30 uur aan de weg.
URL:https://dorpsbanierspierdijk.nl/agenda/zwarte-bak-postcode-1641-1643-1711-8/
ATTACH;FMTTYPE=image/jpeg:https://dorpsbanierspierdijk.nl/wp-content/uploads/2022/12/Zwarte-bak.jpg
END:VEVENT
BEGIN:VEVENT
DTSTART;VALUE=DATE:20260807
DTEND;VALUE=DATE:20260808
DTSTAMP:20260422T044347
CREATED:20251205T211510Z
LAST-MODIFIED:20251205T211510Z
UID:5507-1786060800-1786147199@dorpsbanierspierdijk.nl
SUMMARY:Groene bak – Postcode 1641/1643 + 1711
DESCRIPTION:Zet op de ophaaldag het afval ’s morgens vóór 07.30 uur aan de weg.
URL:https://dorpsbanierspierdijk.nl/agenda/groene-bak-postcode-1641-1643-1711-16/
ATTACH;FMTTYPE=image/webp:https://dorpsbanierspierdijk.nl/wp-content/uploads/2022/11/Groene-container.webp
END:VEVENT
BEGIN:VEVENT
DTSTART;VALUE=DATE:20260808
DTEND;VALUE=DATE:20260809
DTSTAMP:20260422T044347
CREATED:20251205T212805Z
LAST-MODIFIED:20251205T212805Z
UID:5555-1786147200-1786233599@dorpsbanierspierdijk.nl
SUMMARY:Oud papier
DESCRIPTION:Zorg dat het oud papier vanaf 12.00 uur aan de weg staat.
URL:https://dorpsbanierspierdijk.nl/agenda/oud-papier-16/
ATTACH;FMTTYPE=image/jpeg:https://dorpsbanierspierdijk.nl/wp-content/uploads/2022/11/pexels-digital-buggu-167538-scaled.jpg
END:VEVENT
BEGIN:VEVENT
DTSTART;VALUE=DATE:20260814
DTEND;VALUE=DATE:20260815
DTSTAMP:20260422T044347
CREATED:20251205T205515Z
LAST-MODIFIED:20251205T205515Z
UID:5433-1786665600-1786751999@dorpsbanierspierdijk.nl
SUMMARY:Plastic bak – Postcode 1641/1643 + 1711
DESCRIPTION:Zet op de ophaaldag het afval ’s morgens vóór 07.30 uur aan de weg.
URL:https://dorpsbanierspierdijk.nl/agenda/plastic-bak-postcode-1641-1643-1711-9/
ATTACH;FMTTYPE=image/jpeg:https://dorpsbanierspierdijk.nl/wp-content/uploads/2022/12/Plastic-bakken.jpg
END:VEVENT
BEGIN:VEVENT
DTSTART;VALUE=DATE:20260821
DTEND;VALUE=DATE:20260822
DTSTAMP:20260422T044347
CREATED:20251205T211520Z
LAST-MODIFIED:20251205T211520Z
UID:5508-1787270400-1787356799@dorpsbanierspierdijk.nl
SUMMARY:Groene bak – Postcode 1641/1643 + 1711
DESCRIPTION:Zet op de ophaaldag het afval ’s morgens vóór 07.30 uur aan de weg.
URL:https://dorpsbanierspierdijk.nl/agenda/groene-bak-postcode-1641-1643-1711-17/
ATTACH;FMTTYPE=image/webp:https://dorpsbanierspierdijk.nl/wp-content/uploads/2022/11/Groene-container.webp
END:VEVENT
BEGIN:VEVENT
DTSTART;VALUE=DATE:20260828
DTEND;VALUE=DATE:20260829
DTSTAMP:20260422T044347
CREATED:20251205T210454Z
LAST-MODIFIED:20251205T210454Z
UID:5466-1787875200-1787961599@dorpsbanierspierdijk.nl
SUMMARY:Zwarte bak – Postcode 1641/1643 + 1711
DESCRIPTION:Zet op de ophaaldag het afval ’s morgens vóór 07.30 uur aan de weg.
URL:https://dorpsbanierspierdijk.nl/agenda/zwarte-bak-postcode-1641-1643-1711-9/
ATTACH;FMTTYPE=image/jpeg:https://dorpsbanierspierdijk.nl/wp-content/uploads/2022/12/Zwarte-bak.jpg
END:VEVENT
BEGIN:VEVENT
DTSTART;VALUE=DATE:20260904
DTEND;VALUE=DATE:20260905
DTSTAMP:20260422T044347
CREATED:20251205T211645Z
LAST-MODIFIED:20251205T211645Z
UID:5509-1788480000-1788566399@dorpsbanierspierdijk.nl
SUMMARY:Groene bak – Postcode 1641/1643 + 1711
DESCRIPTION:Zet op de ophaaldag het afval ’s morgens vóór 07.30 uur aan de weg.
URL:https://dorpsbanierspierdijk.nl/agenda/groene-bak-postcode-1641-1643-1711-18/
ATTACH;FMTTYPE=image/webp:https://dorpsbanierspierdijk.nl/wp-content/uploads/2022/11/Groene-container.webp
END:VEVENT
BEGIN:VEVENT
DTSTART;VALUE=DATE:20260905
DTEND;VALUE=DATE:20260906
DTSTAMP:20260422T044347
CREATED:20251205T212910Z
LAST-MODIFIED:20251205T212910Z
UID:5562-1788566400-1788652799@dorpsbanierspierdijk.nl
SUMMARY:Oud papier
DESCRIPTION:Zorg dat het oud papier vanaf 12.00 uur aan de weg staat.
URL:https://dorpsbanierspierdijk.nl/agenda/oud-papier-17/
ATTACH;FMTTYPE=image/jpeg:https://dorpsbanierspierdijk.nl/wp-content/uploads/2022/11/pexels-digital-buggu-167538-scaled.jpg
END:VEVENT
BEGIN:VEVENT
DTSTART;VALUE=DATE:20260911
DTEND;VALUE=DATE:20260912
DTSTAMP:20260422T044347
CREATED:20251205T205618Z
LAST-MODIFIED:20251205T205618Z
UID:5444-1789084800-1789171199@dorpsbanierspierdijk.nl
SUMMARY:Plastic bak – Postcode 1641/1643 + 1711
DESCRIPTION:Zet op de ophaaldag het afval ’s morgens vóór 07.30 uur aan de weg.
URL:https://dorpsbanierspierdijk.nl/agenda/plastic-bak-postcode-1641-1643-1711-10/
ATTACH;FMTTYPE=image/jpeg:https://dorpsbanierspierdijk.nl/wp-content/uploads/2022/12/Plastic-bakken.jpg
END:VEVENT
BEGIN:VEVENT
DTSTART;TZID=Europe/Amsterdam:20260911T000000
DTEND;TZID=Europe/Amsterdam:20260912T000000
DTSTAMP:20260422T044347
CREATED:20260302T161506Z
LAST-MODIFIED:20260302T161506Z
UID:5663-1789084800-1789171200@dorpsbanierspierdijk.nl
SUMMARY:ReMind the Gap
DESCRIPTION:
URL:https://dorpsbanierspierdijk.nl/agenda/remind-the-gap/
ATTACH;FMTTYPE=image/jpeg:https://dorpsbanierspierdijk.nl/wp-content/uploads/2022/12/RMTG.jpg
END:VEVENT
BEGIN:VEVENT
DTSTART;VALUE=DATE:20260918
DTEND;VALUE=DATE:20260919
DTSTAMP:20260422T044347
CREATED:20251205T211708Z
LAST-MODIFIED:20251205T211708Z
UID:5513-1789689600-1789775999@dorpsbanierspierdijk.nl
SUMMARY:Groene bak – Postcode 1641/1643 + 1711
DESCRIPTION:Zet op de ophaaldag het afval ’s morgens vóór 07.30 uur aan de weg.
URL:https://dorpsbanierspierdijk.nl/agenda/groene-bak-postcode-1641-1643-1711-19/
ATTACH;FMTTYPE=image/webp:https://dorpsbanierspierdijk.nl/wp-content/uploads/2022/11/Groene-container.webp
END:VEVENT
END:VCALENDAR